BEGIN:VCALENDAR
VERSION:2.0
PRODID:-//bringupnebraska.org//NONSGML kigkonsult.se iCalcreator 2.30.10//
CALSCALE:GREGORIAN
METHOD:PUBLISH
UID:54b030e3-660a-41fe-b8f1-d90a0643600f
X-WR-CALDESC:Workgroup's main priority is to identify areas of alignment be
 tween Thriving Families and those priorities of each of the Tribes.
X-WR-RELCALID:c11b2f62e86a8c8defa911171c0b918d
X-WR-TIMEZONE:America/Chicago
BEGIN:VTIMEZONE
TZID:America/Chicago
BEGIN:STANDARD
TZNAME:CST
DTSTART:20201101T020000
TZOFFSETFROM:-0500
TZOFFSETTO:-0600
RDATE:20211107T020000
RDATE:20221106T020000
END:STANDARD
BEGIN:DAYLIGHT
TZNAME:CDT
DTSTART:20210314T020000
TZOFFSETFROM:-0600
TZOFFSETTO:-0500
RDATE:20220313T020000
END:DAYLIGHT
END:VTIMEZONE
BEGIN:VEVENT
UID:74deba84-5bea-40d4-b83d-379b8ae3833e
DTSTAMP:20260422T124129Z
DESCRIPTION:Workgroup's main priority is to identify areas of alignment bet
 ween Thriving Families and those priorities of each of the Tribes.
DTSTART;TZID=America/Chicago:20210907T150000
DTEND;TZID=America/Chicago:20210907T160000
LOCATION:Please Contact Nathan Busch for more information/an invitation to 
 this meeting.
SUMMARY:Thriving Families Tribal Workgroup
END:VEVENT
END:VCALENDAR
