BEGIN:VCALENDAR
VERSION:2.0
PRODID:-//bringupnebraska.org//NONSGML kigkonsult.se iCalcreator 2.30.10//
CALSCALE:GREGORIAN
METHOD:PUBLISH
UID:bd5de37b-d919-4c94-923d-d99df98580fd
X-WR-CALDESC:The Thriving Families Data Workgroup’s mission is to responsib
 ly and effectively use qualitative and quantitative data to lift up succes
 ses\, challenges\, and changes over time in making the community based pre
 vention system such more equitable\, inclusive\, family-driven\, and effec
 tive. \n\nDetermine:\n• Baseline Measures\n• Benchmarks\n• Promotive and P
 rotective Factors \n• Logic Models\n• Evaluation Plans\n• Thriving Familie
 s Indicators
X-WR-RELCALID:f5eaeeb3e20be7b9ff4a0ed8f273ba1e
X-WR-TIMEZONE:America/Chicago
BEGIN:VTIMEZONE
TZID:America/Chicago
BEGIN:STANDARD
TZNAME:CST
DTSTART:20201101T020000
TZOFFSETFROM:-0500
TZOFFSETTO:-0600
RDATE:20211107T020000
RDATE:20221106T020000
END:STANDARD
BEGIN:DAYLIGHT
TZNAME:CDT
DTSTART:20210314T020000
TZOFFSETFROM:-0600
TZOFFSETTO:-0500
RDATE:20220313T020000
RDATE:20230312T020000
END:DAYLIGHT
END:VTIMEZONE
BEGIN:VEVENT
UID:b7082865-4a4c-43f9-89d0-e746ff78668b
DTSTAMP:20260422T125538Z
DESCRIPTION:The Thriving Families Data Workgroup’s mission is to responsibl
 y and effectively use qualitative and quantitative data to lift up success
 es\, challenges\, and changes over time in making the community based prev
 ention system such more equitable\, inclusive\, family-driven\, and effect
 ive. \n\nDetermine:\n• Baseline Measures\n• Benchmarks\n• Promotive and Pr
 otective Factors \n• Logic Models\n• Evaluation Plans\n• Thriving Families
  Indicators
DTSTART;TZID=America/Chicago:20210922T130000
DTEND;TZID=America/Chicago:20210922T140000
LOCATION:This will be held virtually. Please Contact Jennifer Skala for mor
 e information/an invitation to this event.
SUMMARY:Thriving Families Data Workgroup
END:VEVENT
END:VCALENDAR
