BEGIN:VCALENDAR
VERSION:2.0
PRODID:-//bringupnebraska.org//NONSGML kigkonsult.se iCalcreator 2.30.10//
CALSCALE:GREGORIAN
METHOD:PUBLISH
UID:8f3e7c59-22f8-4a67-8f11-b29397be5add
X-WR-CALDESC:Workgroup's main priority is to identify areas of alignment be
 tween Thriving Families and those priorities of each of the Tribes.
X-WR-RELCALID:4143479c5a5a936d3ca84febbaf3deac
X-WR-TIMEZONE:America/Chicago
BEGIN:VTIMEZONE
TZID:America/Chicago
BEGIN:STANDARD
TZNAME:CST
DTSTART:20201101T020000
TZOFFSETFROM:-0500
TZOFFSETTO:-0600
RDATE:20211107T020000
RDATE:20221106T020000
END:STANDARD
BEGIN:DAYLIGHT
TZNAME:CDT
DTSTART:20210314T020000
TZOFFSETFROM:-0600
TZOFFSETTO:-0500
RDATE:20220313T020000
RDATE:20230312T020000
END:DAYLIGHT
END:VTIMEZONE
BEGIN:VEVENT
UID:4e7df4f5-10d3-4a73-a9db-d676c8d39fdd
DTSTAMP:20260422T111634Z
DESCRIPTION:Workgroup's main priority is to identify areas of alignment bet
 ween Thriving Families and those priorities of each of the Tribes.
DTSTART;TZID=America/Chicago:20211005T150000
DTEND;TZID=America/Chicago:20211005T160000
LOCATION:Please Contact Nathan Busch for more information/an invitation to 
 this meeting.
SUMMARY:Thriving Families Tribal Workgroup
END:VEVENT
END:VCALENDAR
