BEGIN:VCALENDAR
VERSION:2.0
PRODID:-//bringupnebraska.org//NONSGML kigkonsult.se iCalcreator 2.30.10//
CALSCALE:GREGORIAN
METHOD:PUBLISH
UID:0586f569-f546-4a46-ae42-3c47dc0fd9f8
X-WR-CALDESC:Workgroup's main priority is to identify areas of alignment be
 tween Thriving Families and those priorities of each of the Tribes.
X-WR-RELCALID:5c4fb7dc7937265ce9e4db734159f1db
X-WR-TIMEZONE:America/Chicago
BEGIN:VTIMEZONE
TZID:America/Chicago
BEGIN:STANDARD
TZNAME:CST
DTSTART:20211107T020000
TZOFFSETFROM:-0500
TZOFFSETTO:-0600
RDATE:20221106T020000
END:STANDARD
BEGIN:DAYLIGHT
TZNAME:CDT
DTSTART:20210314T020000
TZOFFSETFROM:-0600
TZOFFSETTO:-0500
RDATE:20220313T020000
RDATE:20230312T020000
END:DAYLIGHT
END:VTIMEZONE
BEGIN:VEVENT
UID:ba46e0e8-11c2-4e62-860e-b4742407e044
DTSTAMP:20260422T091352Z
DESCRIPTION:Workgroup's main priority is to identify areas of alignment bet
 ween Thriving Families and those priorities of each of the Tribes.
DTSTART;TZID=America/Chicago:20211102T150000
DTEND;TZID=America/Chicago:20211102T160000
LOCATION:Please Contact Nathan Busch for more information/an invitation to 
 this meeting.
SUMMARY:Thriving Families Tribal Workgroup
END:VEVENT
END:VCALENDAR
