BEGIN:VCALENDAR
VERSION:2.0
PRODID:-//bringupnebraska.org//NONSGML kigkonsult.se iCalcreator 2.30.10//
CALSCALE:GREGORIAN
METHOD:PUBLISH
UID:97c195ab-09bd-4679-8fc4-c806ccafcf4d
X-WR-CALDESC:Workgroup's main priority is to identify areas of alignment be
 tween Thriving Families and those priorities of each of the Tribes.
X-WR-RELCALID:361ec238c9cb8266646e2dee9af7db9a
X-WR-TIMEZONE:America/Chicago
BEGIN:VTIMEZONE
TZID:America/Chicago
BEGIN:STANDARD
TZNAME:CST
DTSTART:20211107T020000
TZOFFSETFROM:-0500
TZOFFSETTO:-0600
RDATE:20221106T020000
END:STANDARD
BEGIN:DAYLIGHT
TZNAME:CDT
DTSTART:20210314T020000
TZOFFSETFROM:-0600
TZOFFSETTO:-0500
RDATE:20220313T020000
RDATE:20230312T020000
END:DAYLIGHT
END:VTIMEZONE
BEGIN:VEVENT
UID:989b6c7d-0297-4928-b5d0-974c72ee4c9a
DTSTAMP:20260422T110155Z
DESCRIPTION:Workgroup's main priority is to identify areas of alignment bet
 ween Thriving Families and those priorities of each of the Tribes.
DTSTART;TZID=America/Chicago:20211207T150000
DTEND;TZID=America/Chicago:20211207T160000
LOCATION:Please Contact Nathan Busch for more information/an invitation to 
 this meeting.
SUMMARY:Thriving Families Tribal Workgroup
END:VEVENT
END:VCALENDAR
