BEGIN:VCALENDAR
VERSION:2.0
PRODID:-//bringupnebraska.org//NONSGML kigkonsult.se iCalcreator 2.30.10//
CALSCALE:GREGORIAN
METHOD:PUBLISH
UID:0e641954-e80a-43c2-a9f7-67296578f267
X-WR-CALDESC:How is the National Site Support Teams (SST) structured? \n\nT
 he SST will be the key support team for each of the Thriving Families juri
 sdiction. The team will meet regularly (*every other month in 2021) as an 
 independent unit and with the jurisdiction to help plan and implement juri
 sdictional efforts and serve as a resource and support hub that has knowle
 dge of and access to partner resources. The teams will work seamlessly at 
 the partner organizational level to determine what resources and support c
 an be provided by whom in a highly integrated way to support the Thriving 
 Families jurisdiction’s plan. These teams will have the ability to call up
 on the MDT as needed (consisting of expert consultants from needed fields 
 of expertise\, in addition to relevant partner agency resources). The repr
 esentatives on SST have direct access to the Executive Team representative
 s of their organization for higher level decision making or support as nec
 essary\, including barrier busting support at the federal level. \n\nWho a
 re the members of National Site Support Teams (SST)? \n\nThe SSTs will be 
 a collective group of interagency and interdisciplinary representatives to
  ensure that they are working together in transformational ways. The membe
 rs will include: 1) parent expert\; 2) youth expert\; and 3) equity expert
 s. In addition to above representatives\, each Site Support Team will incl
 ude: 4) U.S. Children’s Bureau/Federal agency partner lead\; 5) Annie E. C
 asey Foundation lead\; 6) Prevent Child Abuse America lead\; and 6) a Case
 y Family Programs lead. The SST lead from each of the four partner agencie
 s will have clearly delineated roles and responsibilities to best support 
 the Thriving Families jurisdiction. This includes the ability to rapidly e
 scalate barriers that require additional support as well as to escalate ar
 eas for opportunity that may strengthen the work of all Thriving Families 
 sites. To ensure that the Executive Team is fully informed of the Site Sup
 port Teams work\, a representative from each of the team will present the 
 team’s project status regularly to the Executive Team.
X-WR-RELCALID:f95333fb9c328590cc805717faed392f
X-WR-TIMEZONE:America/Chicago
BEGIN:VTIMEZONE
TZID:America/Chicago
BEGIN:STANDARD
TZNAME:CST
DTSTART:20211107T020000
TZOFFSETFROM:-0500
TZOFFSETTO:-0600
RDATE:20221106T020000
END:STANDARD
BEGIN:DAYLIGHT
TZNAME:CDT
DTSTART:20210314T020000
TZOFFSETFROM:-0600
TZOFFSETTO:-0500
RDATE:20220313T020000
RDATE:20230312T020000
END:DAYLIGHT
END:VTIMEZONE
BEGIN:VEVENT
UID:938624a4-097c-4fff-9653-8ee713d86659
DTSTAMP:20260422T110105Z
DESCRIPTION:How is the National Site Support Teams (SST) structured? \n\nTh
 e SST will be the key support team for each of the Thriving Families juris
 diction. The team will meet regularly (*every other month in 2021) as an i
 ndependent unit and with the jurisdiction to help plan and implement juris
 dictional efforts and serve as a resource and support hub that has knowled
 ge of and access to partner resources. The teams will work seamlessly at t
 he partner organizational level to determine what resources and support ca
 n be provided by whom in a highly integrated way to support the Thriving F
 amilies jurisdiction’s plan. These teams will have the ability to call upo
 n the MDT as needed (consisting of expert consultants from needed fields o
 f expertise\, in addition to relevant partner agency resources). The repre
 sentatives on SST have direct access to the Executive Team representatives
  of their organization for higher level decision making or support as nece
 ssary\, including barrier busting support at the federal level. \n\nWho ar
 e the members of National Site Support Teams (SST)? \n\nThe SSTs will be a
  collective group of interagency and interdisciplinary representatives to 
 ensure that they are working together in transformational ways. The member
 s will include: 1) parent expert\; 2) youth expert\; and 3) equity experts
 . In addition to above representatives\, each Site Support Team will inclu
 de: 4) U.S. Children’s Bureau/Federal agency partner lead\; 5) Annie E. Ca
 sey Foundation lead\; 6) Prevent Child Abuse America lead\; and 6) a Casey
  Family Programs lead. The SST lead from each of the four partner agencies
  will have clearly delineated roles and responsibilities to best support t
 he Thriving Families jurisdiction. This includes the ability to rapidly es
 calate barriers that require additional support as well as to escalate are
 as for opportunity that may strengthen the work of all Thriving Families s
 ites. To ensure that the Executive Team is fully informed of the Site Supp
 ort Teams work\, a representative from each of the team will present the t
 eam’s project status regularly to the Executive Team.
DTSTART;TZID=America/Chicago:20211209T130000
DTEND;TZID=America/Chicago:20211209T150000
LOCATION:Please Contact Leslie Gross for more information/an invitation to 
 this meeting.
SUMMARY:Thriving Families Joint Meeting: NE Steering Committee & National S
 ST
END:VEVENT
END:VCALENDAR
